BEGIN:VCALENDAR
VERSION:2.0 
PRODID:-/-/EN
BEGIN:VEVENT
SUMMARY:EQ ACTIVE by Equimotion
UID:68
DESCRIPTION:To book for or join this event please use this link: https://acpat.org/events/68/eq_active_by_equimotion/webinar?dr=107\n\nEquine Exercise Prescription Tips that will Increase Patient Compliance and Lead to Better Clinical Outcomes.\n\n In this webinar we will discuss our top tips for prescribing rehabilitation programs that your clients will want to put in the effort to do, leading to enhanced patient outcomes and a stream of clients wanting to work with you. Attend the live recording to have the opportunity to ask any questions during our Q&A session.\n\n \n\nHosted by the equine physiotherapy team from Equimotion and founders of EQ Active.\n\n \n\nEvery attendee that attends the live recording goes into the draw to win a year’s free subscription to EQ Active!\n\n
DTSTART:20231028T083000Z
DTEND:20231028T093000Z
LOCATION:https://acpat.org/events/68/eq_active_by_equimotion?dr=107
END:VEVENT
END:VCALENDAR